BEGIN:VCALENDAR
VERSION:2.0
PRODID:-//C.A.F. Bizkaia - ECPv6.15.20//NONSGML v1.0//EN
CALSCALE:GREGORIAN
METHOD:PUBLISH
X-WR-CALNAME:C.A.F. Bizkaia
X-ORIGINAL-URL:https://www.cafbizkaia.com
X-WR-CALDESC:Eventos para C.A.F. Bizkaia
REFRESH-INTERVAL;VALUE=DURATION:PT1H
X-Robots-Tag:noindex
X-PUBLISHED-TTL:PT1H
BEGIN:VTIMEZONE
TZID:Europe/Madrid
BEGIN:DAYLIGHT
TZOFFSETFROM:+0100
TZOFFSETTO:+0200
TZNAME:CEST
DTSTART:20250330T010000
END:DAYLIGHT
BEGIN:STANDARD
TZOFFSETFROM:+0200
TZOFFSETTO:+0100
TZNAME:CET
DTSTART:20251026T010000
END:STANDARD
BEGIN:DAYLIGHT
TZOFFSETFROM:+0100
TZOFFSETTO:+0200
TZNAME:CEST
DTSTART:20260329T010000
END:DAYLIGHT
BEGIN:STANDARD
TZOFFSETFROM:+0200
TZOFFSETTO:+0100
TZNAME:CET
DTSTART:20261025T010000
END:STANDARD
BEGIN:DAYLIGHT
TZOFFSETFROM:+0100
TZOFFSETTO:+0200
TZNAME:CEST
DTSTART:20270328T010000
END:DAYLIGHT
BEGIN:STANDARD
TZOFFSETFROM:+0200
TZOFFSETTO:+0100
TZNAME:CET
DTSTART:20271031T010000
END:STANDARD
END:VTIMEZONE
BEGIN:VEVENT
DTSTART;VALUE=DATE:20260424
DTEND;VALUE=DATE:20260426
DTSTAMP:20260425T001337
CREATED:20260417T110652Z
LAST-MODIFIED:20260417T111126Z
UID:27513-1776988800-1777161599@www.cafbizkaia.com
SUMMARY:CAF TRANSFORMA: el simposio que impulsa al Administrador 360
DESCRIPTION:Los días 24 y 25 de abril\, el Paraninfo de la (más…)
URL:https://www.cafbizkaia.com/detalles-evento/caf-transforma-el-simposio-que-impulsa-al-administrador-360/
CATEGORIES:Eventos CAF Bizkaia,Jornadas de Formación,Otros Eventos
ATTACH;FMTTYPE=image/png:https://www.cafbizkaia.com/wp-content/uploads/2026/04/caf-transforma-evento-24-25-abril.png
END:VEVENT
END:VCALENDAR